BEGIN:VCALENDAR
VERSION:2.0
PRODID:-//The Comedy Factory - ECPv6.15.17//NONSGML v1.0//EN
CALSCALE:GREGORIAN
METHOD:PUBLISH
X-WR-CALNAME:The Comedy Factory
X-ORIGINAL-URL:https://www.thecomedyfactory.co.uk
X-WR-CALDESC:Events for The Comedy Factory
REFRESH-INTERVAL;VALUE=DURATION:PT1H
X-Robots-Tag:noindex
X-PUBLISHED-TTL:PT1H
BEGIN:VTIMEZONE
TZID:UTC
BEGIN:STANDARD
TZOFFSETFROM:+0000
TZOFFSETTO:+0000
TZNAME:UTC
DTSTART:20250101T000000
END:STANDARD
END:VTIMEZONE
BEGIN:VEVENT
DTSTART;TZID=UTC:20260503T180000
DTEND;TZID=UTC:20260503T213000
DTSTAMP:20260422T111619
CREATED:20260122T102419Z
LAST-MODIFIED:20260325T071330Z
UID:249-1777831200-1777843800@www.thecomedyfactory.co.uk
SUMMARY:Comedy Splash - Leeds\, Stand Up Comedy Show
DESCRIPTION:The Ultimate Stand-Up Comedy Show!\n\n\n\nWe’re Bringing Legends to Leeds!\nGet ready for non-stop laughter with Comedy Splash — the ultimate comedy experience for you\, your friends\, and your family! \n🎤 Starring: \n\nRichard Blackwood – actor\, radio presenter\, and comedian\nCurtis Walker – comedy legend from The Real McCoy\nDiesel\nSarah Levine\n\n🎙️ Hosted by: Kat \n📍 Venue: Glee Club Leeds\, \nGreat George St\, LS2 8ER\n📅 Date: 3rd May 2026 \nTime: 6pm to 9.30pm \nComedy Splash —\nWhere the jokes hit hard and the vibes are always right. \nBrought to you by; The Comedy Factory UK.
URL:https://www.thecomedyfactory.co.uk/event/comedy-splash-leeds-stand-up-comedy-show/
LOCATION:Glee Club Leeds\, Great George St\,  LS2 8ER\, Glee Club Leeds\, Leeds\, LS2 8ER\, United Kingdom
ATTACH;FMTTYPE=image/jpeg:https://www.thecomedyfactory.co.uk/wp-content/uploads/2026/01/leeds-comedy-splash-2.jpg
ORGANIZER;CN="The Comedy Factory UK":MAILTO:info@socialglobal.co.uk
END:VEVENT
BEGIN:VEVENT
DTSTART;TZID=UTC:20260524T190000
DTEND;TZID=UTC:20260524T220000
DTSTAMP:20260422T111619
CREATED:20260115T082254Z
LAST-MODIFIED:20260325T071256Z
UID:246-1779649200-1779660000@www.thecomedyfactory.co.uk
SUMMARY:Comedy Splash London - Stand Up Comedy Show
DESCRIPTION:Comedy Splash\nThe Ultimate Stand-Up Comedy Show! \nGet ready for non-stop laughter with Comedy Splash — the ultimate comedy experience for you\, your friends\, and your family! We’re bringing the top UK comedians from the circuit straight to the legendary Backyard Comedy Club. \nExpect sharp wit\, big laughs\, and unforgettable moments — all in one night! \nBuy your tickets now!\nCome out\, relax\, enjoy\, and have fun. \nComedy By: \nWhite Yardie \nSlim \nKyrah Gray \nJosephine Lacy \nHost by Mr Cee \nDate: 24th May 206 \nVenue: Backyard Comedy Club: 231 Cambridge Heath Rd\, London E2 0EL \nTime: 7pm to 10pm (There is a lounge and bar onsite open from 6pm) \nComedy Splash —\nWhere the jokes hit hard and the vibes are always right. \nBrought to you by; The Comedy Factory UK.
URL:https://www.thecomedyfactory.co.uk/event/comedy-splash-stand-up-comedy-show/
LOCATION:Backyard\, Backyard Comedy Club\, 231 Cambridge Heath Rd\, London\, England\, E2 0EL\, United Kingdom
ATTACH;FMTTYPE=image/jpeg:https://www.thecomedyfactory.co.uk/wp-content/uploads/2026/01/Slash-London-2.jpg
ORGANIZER;CN="The Comedy Factory UK":MAILTO:info@socialglobal.co.uk
END:VEVENT
BEGIN:VEVENT
DTSTART;TZID=UTC:20260607T174500
DTEND;TZID=UTC:20260607T213000
DTSTAMP:20260422T111619
CREATED:20260220T125106Z
LAST-MODIFIED:20260317T175152Z
UID:264-1780854300-1780867800@www.thecomedyfactory.co.uk
SUMMARY:AFRICA vs CARIBBEAN Comedy Showdown
DESCRIPTION:Get ready for a night of unstoppable laughter as Africa and the Caribbean come together on one stage for an unforgettable comedy experience. \nThis isn’t about competition — it’s about celebration. \nWe’re bringing some of the funniest\, most charismatic comedians from Africa and the Caribbean to deliver their very best material\, their funniest stories\, and their sharpest punchlines. Expect cultural humour\, relatable moments\, family drama\, accents\, relationships\, and everything in between. \nFrom African household madness to Caribbean family vibes\, this show blends two rich cultures through comedy in a way that will have you laughing from start to finish. \nBig personalities. Big energy. Big laughs. \nRepresenting Team Africa:\nA.Dot Comedian\nVictor Daniels\nLateef Lovejoy \nRepresenting Team Caribbean:\nShabba\nDizzle\nQuincy \nHosted by the brilliant Kat\, keeping the energy high and the laughs flowing all night long. \nWhether you’re Team Africa or Team Caribbean\, you’re in for a proper night of entertainment as each comedian brings their unique flavour and perspective to the stage. \nOne stage. Two cultures. Endless laughter. \nThis is not one to miss. \n📍 Venue: Glee Club BIRMINGHAM\, The Arcadian\, 70 Hurst St\, Birmingham B5 4TD \n📅 Date: 7th June 2026 \nTime: 5.45pm Show starts 6.45pm to 9.30pm \nLast entry 6.45pm \nComedy Splash — Where the jokes hit hard and the vibes are always right. Brought to you by: The Comedy Factory UK. \nAll wheelchair/accessibility tickets and PA comps are to be booked directly with The Glee Club box office and all queries should be forwarded to access@glee.co.uk before placing a booking. Please instruct bookers accordingly. Your seats are reserved and we’ll make sure you’re seated with the other people on your booking. If you’d like to be seated with someone on a different booking please contact the Glee Box Office on info@glee.co.uk or 0871 472 0400 by 5pm on the day of the show.
URL:https://www.thecomedyfactory.co.uk/event/africa-vs-the-caribbean-comedy-showdown/
LOCATION:The Glee Club\, The Arcadian\, 70 Hurst St\, Birmingham\, B5 4TD\, United Kingdom
ATTACH;FMTTYPE=image/png:https://www.thecomedyfactory.co.uk/wp-content/uploads/2026/02/Africa-Vs-Caribbean-New-1.png
ORGANIZER;CN="The Comedy Factory UK":MAILTO:info@socialglobal.co.uk
END:VEVENT
BEGIN:VEVENT
DTSTART;TZID=UTC:20260614T190000
DTEND;TZID=UTC:20260614T220000
DTSTAMP:20260422T111619
CREATED:20260206T142612Z
LAST-MODIFIED:20260206T142612Z
UID:256-1781463600-1781474400@www.thecomedyfactory.co.uk
SUMMARY:GoodFellas - Richard Blackwood\, White Yardie & Slim
DESCRIPTION:Stand Up Comedy Show.\n\n\n\nThree of the biggest names in UK comedy\, Richard Blackwood\, White Yardie\, and Slim are the GoodFellas\, bring you their biggest gags. The ideal occasion for laughter\, this live stand-up comedy show is captivating and not to be missed. To join us for this incredible comedy show\, reserve your seats right away. \nComedy by: \nRichard Blackwood \nWhite Yardie \nSlim \nDoors open 7pm \nLast entry 7.30pm \nShow time 8pm to 10pm \nTickets are £23.50 \nAge 18+ \nDate & Venue: \nCardiff Sunday 14th June 2026 at The Glee Club\, Unit 7a\, Mermaid Quay\, Unit 7a\, Cardiff CF10 5BZ \nFor more information email: Info@socialglobal.co.uk \nThis show was brought to you by The Comedy Factory UK \nPlease follow us on social media @thecomedyfactoryuk \nYour seats will be pre-allocated and we’ll make sure you’re seated with the other people on your booking. If you’d like to be seated with someone on a different booking please contact the Glee Box Office on info@glee.co.uk or 0871 472 0400 before 5pm on the day of the show. \nRefunds will only be issued if the show is cancelled; otherwise\, tickets are non-refundable. \nFor accessibility requirements\, please contact the venue with any accessibility requirements before booking. Spaces may be limited and will be sold on a first come first served basis. You can call: 0121 693 2248 (Mon-Fri 9.30am-6pm & Sat/Sun 12-6pm) or email info@glee.co.uk with your access requirements and the show you wish to see in order to make a booking. Disabled Access is available by lift.
URL:https://www.thecomedyfactory.co.uk/event/goodfellas-richard-blackwood-white-yardie-slim/
LOCATION:Glee Club Cardiff\, Unit 7a\, Mermaid Quay\, Cardiff\, CF10 5BZ\, United Kingdom
ATTACH;FMTTYPE=image/jpeg:https://www.thecomedyfactory.co.uk/wp-content/uploads/2026/02/good-fellas-cardiff-1.jpg
ORGANIZER;CN="The Comedy Factory UK":MAILTO:info@socialglobal.co.uk
END:VEVENT
END:VCALENDAR