BEGIN:VCALENDAR
VERSION:2.0
PRODID:-//The Comedy Factory - ECPv6.15.17//NONSGML v1.0//EN
CALSCALE:GREGORIAN
METHOD:PUBLISH
X-ORIGINAL-URL:https://www.thecomedyfactory.co.uk
X-WR-CALDESC:Events for The Comedy Factory
REFRESH-INTERVAL;VALUE=DURATION:PT1H
X-Robots-Tag:noindex
X-PUBLISHED-TTL:PT1H
BEGIN:VTIMEZONE
TZID:UTC
BEGIN:STANDARD
TZOFFSETFROM:+0000
TZOFFSETTO:+0000
TZNAME:UTC
DTSTART:20250101T000000
END:STANDARD
END:VTIMEZONE
BEGIN:VEVENT
DTSTART;TZID=UTC:20260524T190000
DTEND;TZID=UTC:20260524T220000
DTSTAMP:20260422T123504
CREATED:20260115T082254Z
LAST-MODIFIED:20260325T071256Z
UID:246-1779649200-1779660000@www.thecomedyfactory.co.uk
SUMMARY:Comedy Splash London - Stand Up Comedy Show
DESCRIPTION:Comedy Splash\nThe Ultimate Stand-Up Comedy Show! \nGet ready for non-stop laughter with Comedy Splash — the ultimate comedy experience for you\, your friends\, and your family! We’re bringing the top UK comedians from the circuit straight to the legendary Backyard Comedy Club. \nExpect sharp wit\, big laughs\, and unforgettable moments — all in one night! \nBuy your tickets now!\nCome out\, relax\, enjoy\, and have fun. \nComedy By: \nWhite Yardie \nSlim \nKyrah Gray \nJosephine Lacy \nHost by Mr Cee \nDate: 24th May 206 \nVenue: Backyard Comedy Club: 231 Cambridge Heath Rd\, London E2 0EL \nTime: 7pm to 10pm (There is a lounge and bar onsite open from 6pm) \nComedy Splash —\nWhere the jokes hit hard and the vibes are always right. \nBrought to you by; The Comedy Factory UK.
URL:https://www.thecomedyfactory.co.uk/event/comedy-splash-stand-up-comedy-show/
LOCATION:Backyard\, Backyard Comedy Club\, 231 Cambridge Heath Rd\, London\, England\, E2 0EL\, United Kingdom
ATTACH;FMTTYPE=image/jpeg:https://www.thecomedyfactory.co.uk/wp-content/uploads/2026/01/Slash-London-2.jpg
ORGANIZER;CN="The Comedy Factory UK":MAILTO:info@socialglobal.co.uk
END:VEVENT
END:VCALENDAR